BEGIN:VCALENDAR
VERSION:2.0
PRODID:-//MBASC.org - ECPv6.15.20//NONSGML v1.0//EN
CALSCALE:GREGORIAN
METHOD:PUBLISH
X-WR-CALNAME:MBASC.org
X-ORIGINAL-URL:https://mbasc.org
X-WR-CALDESC:Events for MBASC.org
REFRESH-INTERVAL;VALUE=DURATION:PT1H
X-Robots-Tag:noindex
X-PUBLISHED-TTL:PT1H
BEGIN:VTIMEZONE
TZID:America/Los_Angeles
BEGIN:DAYLIGHT
TZOFFSETFROM:-0800
TZOFFSETTO:-0700
TZNAME:PDT
DTSTART:20190310T100000
END:DAYLIGHT
BEGIN:STANDARD
TZOFFSETFROM:-0700
TZOFFSETTO:-0800
TZNAME:PST
DTSTART:20191103T090000
END:STANDARD
BEGIN:DAYLIGHT
TZOFFSETFROM:-0800
TZOFFSETTO:-0700
TZNAME:PDT
DTSTART:20200308T100000
END:DAYLIGHT
BEGIN:STANDARD
TZOFFSETFROM:-0700
TZOFFSETTO:-0800
TZNAME:PST
DTSTART:20201101T090000
END:STANDARD
BEGIN:DAYLIGHT
TZOFFSETFROM:-0800
TZOFFSETTO:-0700
TZNAME:PDT
DTSTART:20210314T100000
END:DAYLIGHT
BEGIN:STANDARD
TZOFFSETFROM:-0700
TZOFFSETTO:-0800
TZNAME:PST
DTSTART:20211107T090000
END:STANDARD
BEGIN:DAYLIGHT
TZOFFSETFROM:-0800
TZOFFSETTO:-0700
TZNAME:PDT
DTSTART:20220313T100000
END:DAYLIGHT
BEGIN:STANDARD
TZOFFSETFROM:-0700
TZOFFSETTO:-0800
TZNAME:PST
DTSTART:20221106T090000
END:STANDARD
BEGIN:DAYLIGHT
TZOFFSETFROM:-0800
TZOFFSETTO:-0700
TZNAME:PDT
DTSTART:20230312T100000
END:DAYLIGHT
BEGIN:STANDARD
TZOFFSETFROM:-0700
TZOFFSETTO:-0800
TZNAME:PST
DTSTART:20231105T090000
END:STANDARD
BEGIN:DAYLIGHT
TZOFFSETFROM:-0800
TZOFFSETTO:-0700
TZNAME:PDT
DTSTART:20240310T100000
END:DAYLIGHT
BEGIN:STANDARD
TZOFFSETFROM:-0700
TZOFFSETTO:-0800
TZNAME:PST
DTSTART:20241103T090000
END:STANDARD
BEGIN:DAYLIGHT
TZOFFSETFROM:-0800
TZOFFSETTO:-0700
TZNAME:PDT
DTSTART:20250309T100000
END:DAYLIGHT
BEGIN:STANDARD
TZOFFSETFROM:-0700
TZOFFSETTO:-0800
TZNAME:PST
DTSTART:20251102T090000
END:STANDARD
END:VTIMEZONE
BEGIN:VEVENT
DTSTART;TZID=America/Los_Angeles:20240504T173000
DTEND;TZID=America/Los_Angeles:20240504T190000
DTSTAMP:20260423T074016
CREATED:20240413T035317Z
LAST-MODIFIED:20240413T035317Z
UID:5797-1714843800-1714849200@mbasc.org
SUMMARY:MBASC Orange County Mixer for Hasan Minhaj's latest show "Off With His Head" - Friday\, May 3\, 2024
DESCRIPTION:You’re cordially invited to join us for an evening of laughter and camaraderie as we gather to watch Hasan Minhaj’s latest show\, “Off With His Head\,” on Friday\, May 3\, 2024\, at Segerstrom Hall in Costa Mesa\, CA. \nPrior to the show\, we’ll be hosting a mixer at George’s Cafe (Costa Mesa\, CA) starting at 5:30 p.m. This will be an excellent opportunity to network\, socialize\, and enjoy some refreshments before heading to the performance. All are welcome to join us for the mixer even if you’re unable to attend the show! \nPlease RSVP for the MBASC mixer here. \nThose who would like to watch the show will need to purchase their tickets separately. Show tickets may be purchased here. \nFirst 5 MBASC Members to register for the mixer and purchase show tickets will receive backstage passes. \nEvent Details: \nDate: Friday\, May 3\, 2024 \nPre-Show MBASC Mixer: \nStarts at 5:30 p.m.\, George’s Cafe at Segerstrom Hall (Costa Mesa\, CA) \nShow: \nShow starts at 7:00 p.m. at Segerstrom Hall (Costa Mesa\, CA) \nMore about the show: \nHasan Minhaj\, a two-time Peabody Award-Winning comedian\, brings his unique brand of humor to the stage once again with “Off With His Head.” Renowned for his insightful commentary on politics\, society\, and personal experiences\, Minhaj promises an evening of laughter and thought-provoking entertainment. Hasan Minhaj gained widespread acclaim for his Netflix special “HOMECOMING KING” and his Emmy-winning show “PATRIOT ACT WITH HASAN MINHAJ.” As a former senior correspondent for Comedy Central’s “THE DAILY SHOW WITH JON STEWART” and headliner of the 2017 WHITE HOUSE CORRESPONDENTS’ DINNER\, Minhaj has solidified his place as one of the most important voices in comedy today. \nWe look forward to seeing you there!
URL:https://mbasc.org/event/mbasc-orange-county-mixer-for-hasan-minhajs-latest-show-off-with-his-head-friday-may-3-2024/
LOCATION:Segerstrom Hall (Costa Mesa\, CA)
END:VEVENT
BEGIN:VEVENT
DTSTART;TZID=America/Los_Angeles:20220419T180000
DTEND;TZID=America/Los_Angeles:20220419T203000
DTSTAMP:20260423T074016
CREATED:20220404T120752Z
LAST-MODIFIED:20220418T215940Z
UID:5145-1650391200-1650400200@mbasc.org
SUMMARY:MBASC 2022 Iftar
DESCRIPTION:See You at Our Annual Iftar\, InshAllah\nWe invite you to join us for our annual Iftar\, a celebration of Ramadan and an opportunity to bring us together after two years of suspended in-person programming due to COVID. During this Iftar we will celebrate our achievements\, share the lessons learned\, as well as the visions we have for this new era\, including our hopes and goals for the year ahead – and beyond\, inshAllah. \nThe program will feature two speakers who can speak with authority on the role of Muslims in the community and the practice of law in this post-COVID world. Our first speaker is Reza Aslan – leading expert in world religions\, and international\, multi-award winning author\, scholar and prominent social commentator. Our second speaker is Khaled Beydoun – renowned anti-racist speaker\, global civil rights advocate\, activist and law professor. He was recently included in The Muslim 500’s list of the 500 Most Influential Muslims in the World. \nDoors open at 6:00 pm\nEvent time 6:30 pm – 8:30 pm \nTickets\nTickets are SOLD OUT \nDiscount for Members\nBecome an MBASC member to save $20 on your ticket price. Your membership supports our organization and enables us to continue to grow. This discount can only be used on one ticket. If you are a member\, please be sure to log into your account before purchasing your ticket. \nIftar Location\nHerald Examiner Building\n1111 S. Broadway Street\nLos Angeles\, CA 90015 \nAbout MBASC\nMBASC is the premier representative organization for Muslim Attorneys in Southern California. Today we count almost 400 attorneys and law students as part of our family. MBASC members can be found throughout Southern California’s legal community serving as counsel at major corporations\, public servants at various levels of government\, professors at law schools\, partners and associates at law firms\, leaders in the not-for-profit sector\, and everything in between.
URL:https://mbasc.org/event/mbasc-2022-iftar/
LOCATION:Herald Examiner Building\, 1111 S. Broadway Street\, Los Angeles\, CA\, 90015\, United States
CATEGORIES:Iftar
ATTACH;FMTTYPE=image/jpeg:https://mbasc.org/wp-content/uploads/2022/04/Further-Revised-2022-Iftar-Flyer.jpg
END:VEVENT
BEGIN:VEVENT
DTSTART;TZID=America/Los_Angeles:20201209T120000
DTEND;TZID=America/Los_Angeles:20201209T133000
DTSTAMP:20260423T074016
CREATED:20201126T032023Z
LAST-MODIFIED:20230718T094553Z
UID:4796-1607515200-1607520600@mbasc.org
SUMMARY:Practice Spotlight Series: Legal Trends in TECHNOLOGY
DESCRIPTION:Join MBASC for an insightful discussion with in-house attorneys from leading US tech companies.  Learn more about practicing law in a perpetually changing legal environment for companies that are on the cutting edge.  We will be discussing a wide range of topics\, from data privacy\, regulatory trends\, cybersecurity legal implications\, and more. \nAfter registering\, you will receive a confirmation email containing information about joining the meeting.
URL:https://mbasc.org/event/practice-spotlight-series-legal-trends-in-technology/
CATEGORIES:Professional
ATTACH;FMTTYPE=image/jpeg:https://mbasc.org/wp-content/uploads/2020/11/Trends-in-Tech-Law-Flyer-FINAL.jpg
END:VEVENT
BEGIN:VEVENT
DTSTART;TZID=America/Los_Angeles:20200929T120000
DTEND;TZID=America/Los_Angeles:20200929T130000
DTSTAMP:20260423T074016
CREATED:20200925T024748Z
LAST-MODIFIED:20200925T025556Z
UID:4757-1601380800-1601384400@mbasc.org
SUMMARY:Let's Talk About Prison Outreach: Understanding the Complex Prison System and Advocating for Change Though Personal Experiences
DESCRIPTION:  \n\n\n\nSalam MBASC community\, \nWe are excited to continue with our Social Justice Series events\, this time focusing on prison outreach\, coming up Tuesday\, September 29 at 12:00 p.m.  The event will feature prison outreach activists and will include personal experiences with the prison system.  We are pleased to be joined by: \nAmin Eshaiker\, Program Manager Link Outside\nKingDawud Burgess\, CEO Many Brilliant Minds.\nYolanda Burgess\, Broker/Owner Platinum Partners Realty. \nThe panel will be moderated by MBASC Board member and Criminal Defense Attorney\, Imran Syed. \nThis event will take place via Zoom.  Register in advance here: \nAfter registering\, you will receive a confirmation email containing information about joining the meeting. \nAbout the Event:\nThe panelists will discuss their experiences advocating for incarcerated women and men and their personal experiences within the prison system. Panel topics will include: the importance of prison outreach\, what it’s like to serve time in prison as a Muslim\, and what lawyers can do to advocate for their clients and to get involved. A Q&A session will follow\, time permitting. \nPlease follow MBASC on Facebook and Instagram. If you are not a member\, please register here. \nThank you for your support! \nMBASC Board
URL:https://mbasc.org/event/lets-talk-about-prison-outreach-understanding-the-complex-prison-system-and-advocating-for-change-though-personal-experiences/
CATEGORIES:Professional
ATTACH;FMTTYPE=image/jpeg:https://mbasc.org/wp-content/uploads/2020/09/Prison-MBASC-Talk-scaled.jpg
END:VEVENT
BEGIN:VEVENT
DTSTART;TZID=America/Los_Angeles:20200722T120000
DTEND;TZID=America/Los_Angeles:20200722T130000
DTSTAMP:20260423T074016
CREATED:20200717T034023Z
LAST-MODIFIED:20200717T034023Z
UID:4716-1595419200-1595422800@mbasc.org
SUMMARY:Muslim Women in the Law
DESCRIPTION:Salam MBASC community\, \nWe are excited to continue with our fifth MBASC Practice Spotlight Series event\, coming up Wednesday\, July 22nd at 12:00 p.m.  The event will feature highly qualified and experienced  attorneys who will address a range of topics regarding their experience as Muslim women in the legal field.  We are pleased to be joined by: \nLubabah Abdullah\, Executive Director of CAIR-Houston\nFarah Bhatti\, Shareholder\, Buchalter\nAmna Chaudhary\, Law Clerk\, US Bankruptcy Court \nThe panel will be moderated by MBASC Student Rep\, Sarah Shahatto. \nEveryone is welcome to attend. \nThis event will take place via Zoom.  Register in advance here \nAfter registering\, you will receive a confirmation email containing information about joining the meeting. \nAbout the Event:\nThe panelists will address the moderator’s questions concerning their experience working in the legal field\, as well as the benefits and challenges of a legal career.  The panelists will cover topics including: women empowerment in a predominately male profession\, creating sisterhood and mentorship\, hijab and woman identity in the workplace and the importance of diversity and intersectionality in the workplace. At the end\, we will leave some time for Q&A. \nPlease follow MBASC on Facebook and Instagram. If you are not a member\, sign up now!\nThank you for your support! \nMBASC Board
URL:https://mbasc.org/event/muslim-women-in-the-law/
CATEGORIES:Professional
ATTACH;FMTTYPE=image/jpeg:https://mbasc.org/wp-content/uploads/2020/07/Copy-of-In-House-Counsel-Flyer.jpg
END:VEVENT
BEGIN:VEVENT
DTSTART;TZID=America/Los_Angeles:20200624T123000
DTEND;TZID=America/Los_Angeles:20200624T133000
DTSTAMP:20260423T074016
CREATED:20200617T001346Z
LAST-MODIFIED:20230727T211622Z
UID:4575-1593001800-1593005400@mbasc.org
SUMMARY:In-House Counsel Perspectives: Diversity in Today's Corporate Legal Environment
DESCRIPTION:We are excited to continue with our fourth MBASC Practice Spotlight Series event\, coming up Wednesday\, June 24th at 12:30 p.m.  The event will feature a panel of four highly qualified and experienced attorney members who will address a range of topics regarding their experience as in-house lawyers working at top companies throughout Southern California and the role of diversity in corporate legal departments.  We are pleased to be joined by: \nSarah Aleem\, Senior Counsel\, TikTok\nMustafa El-Farra\, VP\, Assistant General Counsel\, Advantage Solutions\nHaniya Masud\, Counsel\, Hulu\nHadeer Soliman\, Staff Counsel\, CHOC Children’s \nThe panel will be moderated by Ahmed Ibrahim\, founding shareholder of AI Law\, PLC. \npojdite na spletno stran \nThis event will take place via Zoom.  Register in advance here. After registering\, you will receive a confirmation email containing information about joining the meeting. \nAbout the Event:\nThe panelists will address the moderator’s questions concerning their experience working as in-house attorneys\, as well as the benefits and challenges of a legal career at a large company as a minority and a Muslim.  Other topics that may be covered include:  the truth or myth of a positive work-life balance of working in-house\, why diversity is important in legal departments at large companies\, what companies look for when hiring in-house lawyers\, and what in-house attorneys look for in\, and need from\, outside counsel.  At the end\, we will leave some time for Q&A.
URL:https://mbasc.org/event/in-house-counsel-perspectives-diversity-in-todays-corporate-legal-environment/
CATEGORIES:Professional
ATTACH;FMTTYPE=application/pdf:https://mbasc.org/wp-content/uploads/2020/06/In-House-Counsel-Flyer.pdf
END:VEVENT
BEGIN:VEVENT
DTSTART;TZID=America/Los_Angeles:20200605T120000
DTEND;TZID=America/Los_Angeles:20200605T130000
DTSTAMP:20260423T074016
CREATED:20200604T154610Z
LAST-MODIFIED:20200604T154610Z
UID:4557-1591358400-1591362000@mbasc.org
SUMMARY:Combatting Anti-Blackness in the Criminal Justice System & in the Legal Profession
DESCRIPTION:Please join us for this much needed and very important conversation on combatting anti-blackness in the criminal justice system and in the legal profession on Friday June 5\, 2020 from 12-1pm via Zoom. \nThis panel will feature socal attorneys Wali Abdulmalik\, Zulu Ali\, and Tarek Shawky with introduction by Sakinah Medina of Golden Path. \nRegister here .
URL:https://mbasc.org/event/combatting-anti-blackness-in-the-criminal-justice-system-in-the-legal-profession/
ATTACH;FMTTYPE=image/jpeg:https://mbasc.org/wp-content/uploads/2020/06/Combatting-Anti-Blackness-in-the-Criminal-Justice-System-and-Legal-Profression.jpg
END:VEVENT
BEGIN:VEVENT
DTSTART;TZID=America/Los_Angeles:20200521T133000
DTEND;TZID=America/Los_Angeles:20200521T143000
DTSTAMP:20260423T074016
CREATED:20200510T201743Z
LAST-MODIFIED:20200510T202233Z
UID:4519-1590067800-1590071400@mbasc.org
SUMMARY:Virtual Social Hour!
DESCRIPTION:MBASC is trying to help you still network with other attorneys while socially distancing! \nPlease join us Thursday\, May 21\, 2020 from 1:30-2:30 for a virtual social hour. \nTake advantage of the breakout rooms and get to know one another￼ and stay connected. \nPlease register on the link below. \nhttps://us02web.zoom.us/meeting/register/tZAofuCgrTkiE9OOBBtBnDScWBVM2BwDrfhv
URL:https://mbasc.org/event/virtual-social-hour/
CATEGORIES:Social
ATTACH;FMTTYPE=image/jpeg:https://mbasc.org/wp-content/uploads/2020/05/Virtual-Social-Hour.jpg
END:VEVENT
BEGIN:VEVENT
DTSTART;TZID=America/Los_Angeles:20200520T170000
DTEND;TZID=America/Los_Angeles:20200520T180000
DTSTAMP:20260423T074016
CREATED:20200519T003053Z
LAST-MODIFIED:20230718T100118Z
UID:4538-1589994000-1589997600@mbasc.org
SUMMARY:Dhikr\, Breathing\, & Meditation
DESCRIPTION:Before Ramadan ends\, learn techniques for stress relief\, remembrance\, and connection to the Creator. \nThis Wednesday\, May 20\, at 5:00 PM\, Adita Arya will guide us through a meditation that uses tools from Islamic spirituality to help us focus on creating meaningful connections that encourage awareness of God. \ned-danmark.com \nYou’ve seen and attended programs on stress relief for lawyers\, but this program comes during a stressful time to teach us about Islamic spirituality and how busy professionals can tap into it. \n“God is right here. It is we who are far away.” \nRegister at https://bit.ly/2z4Km1N. Please follow MBASC on Facebook and Instagram. If you are not a member\, please register at MBASC.org.
URL:https://mbasc.org/event/dhikr-breathing-meditation/
ATTACH;FMTTYPE=image/png:https://mbasc.org/wp-content/uploads/2020/05/unnamed.png
END:VEVENT
BEGIN:VEVENT
DTSTART;TZID=America/Los_Angeles:20200513T123000
DTEND;TZID=America/Los_Angeles:20200513T133000
DTSTAMP:20260423T074016
CREATED:20200510T201050Z
LAST-MODIFIED:20200510T201050Z
UID:4515-1589373000-1589376600@mbasc.org
SUMMARY:Third Practice Spotlight on Immigration Law & COVID19
DESCRIPTION:We look forward to our third MBASC Practice Spotlight Series event\, held this coming Wednesday\, May 13\, 2020 at 12:30 pm PST\, featuring Owais Qazi and Afsha Randera. \nOwais Qazi\nOwais Qazi has been practicing immigration law for close to 15 years. His focus has been on business immigration\, which includes employment and investment immigration to the United States. Over the years\, he has represented hundreds of corporate and individual clients in their pursuit of E-2\, H1B\, labor certification\, and employment based immigration petitions such as EB1 extraordinary ability applicants\, advanced degree professionals (EB2)\, and skilled workers (EB3). \nAfsha Randera\nAfsha Randera is Managing Attorney of the Immigration section at Michael Sullivan & Associates based in Los Angeles. With nine offices throughout California\, the firm provides comprehensive legal counsel to California employers. As the head of the Immigration practice\, Afsha focuses on business\, investment\, entertainment and personal immigration to the U.S.  She is an author of Navigating COVID-19: A Legal Guide for California Employers – a leading resource for employment law\, immigration law\, and workers’ compensation. \nThis event will take place via Zoom. Register in advance here: \nhttps://us02web.zoom.us/meeting/register/tZYqdO-ppjwoGt3RFV2oQwmBHPFqIhRGnpFZ \nAfter registering\, you will receive a confirmation email containing information about joining the meeting.
URL:https://mbasc.org/event/third-practice-spotlight-on-immigration-law-covid19/
CATEGORIES:Professional
ATTACH;FMTTYPE=image/jpeg:https://mbasc.org/wp-content/uploads/2020/05/Immigration-During-Covid19.jpg
END:VEVENT
BEGIN:VEVENT
DTSTART;TZID=America/Los_Angeles:20200506T123000
DTEND;TZID=America/Los_Angeles:20200506T133000
DTSTAMP:20260423T074016
CREATED:20200419T235459Z
LAST-MODIFIED:20230727T204046Z
UID:4461-1588768200-1588771800@mbasc.org
SUMMARY:Practice Spotlight Series: Employment Law and COVID19
DESCRIPTION:slovenska-lekaren.com/ \nOur second Spotlight Series event will be held on May 6\, 2020 at 12:30 pm PST and will feature Usama Kahf\, partner at Fisher Phillips. Mr. Kahf will address the significant and growing impact that COVID-19 has had on the workplace. As a result of which\, businesses now must balance a number of complex issues to effectively manage workplace issues\, including: the Families First COVID-19 Response Act (FFCRA)\, the CARES Act\, shelter-in-place ordinances\, paid sick leave laws\, unemployment insurance\, notice requirements\, managing a remote workforce\, and many of the fast-paced developments at the federal\, state\, and local levels.  Employers need to know what their responsibilities are\, what resources they have available to them\, and what approaches they can recommend. \nTo attend the event\, click here: https://us02web.zoom.us/meeting/register/tZUtdOCvqTstEtUYudlCvkfNEWgv8e5GQOXi
URL:https://mbasc.org/event/practice-spotlight-series-employment-law-and-covid19/
CATEGORIES:Professional
ATTACH;FMTTYPE=image/png:https://mbasc.org/wp-content/uploads/2020/04/Screen-Shot-2020-04-19-at-4.57.44-PM-1.png
END:VEVENT
BEGIN:VEVENT
DTSTART;VALUE=DATE:20200501
DTEND;VALUE=DATE:20200502
DTSTAMP:20260423T074016
CREATED:20200420T002154Z
LAST-MODIFIED:20200420T003706Z
UID:4466-1588291200-1588377599@mbasc.org
SUMMARY:2020 Rajan Family Scholarship Application Due Date!
DESCRIPTION:This award seeks to recognize and assist an MBASC law student member committed to serving the public interest.  The scholarship’s recipient will be awarded the amount of $2\,030 to be applied to a preparatory course for the upcoming 2020 California bar exam. \nTo be eligible for the award\, an applicant must (1) be a law student expecting to graduate from an ABA-accredited law school in 2020; (2) be an MBASC student member; (3) complete the online application; and (4) submit a personal statement (1\,500 words\, maximum) explaining: \n1. The applicant’s past\, present\, and future commitment to the public interest;\n2. The public interest career that the applicant seeks to pursue following law school graduation;\n3. What motivates the applicant to pursue this career path and what professional goals the applicant hopes to achieve; and\n4. The applicant’s financial need for this scholarship. \nA committee of MBASC board members will award the scholarship to an individual whose application best demonstrates both a strong commitment to pursuing a career in public service\, and financial need. \nApplications must be submitted at https://forms.gle/XdbsBx8gzPvovjeC6 on or before May 1\, 2020.  The recipient will be chosen and announced mid-May. \nPlease be advised that in the event either BarBRI cancels bar exam preparatory classes in the summer of 2020 or the California bar exam is not administered in 2020\, MBASC\, in consultation with the donor\, will reassess whether and how funds are disbursed for the benefit of the award recipient. \nWe look forward to your applications!  Thank you.
URL:https://mbasc.org/event/2020-rajan-family-scholarship-application-due-date/
CATEGORIES:Student
ATTACH;FMTTYPE=image/jpeg:https://mbasc.org/wp-content/uploads/2020/04/trent-erwin-UgA3Xvi3SkA-unsplash-1-scaled.jpg
END:VEVENT
BEGIN:VEVENT
DTSTART;TZID=America/Los_Angeles:20200429T123000
DTEND;TZID=America/Los_Angeles:20200429T133000
DTSTAMP:20260423T074016
CREATED:20200419T233439Z
LAST-MODIFIED:20200420T000247Z
UID:4452-1588163400-1588167000@mbasc.org
SUMMARY:Practice Spotlight Series- Muslims in America: Estate Planning
DESCRIPTION:  \nOur first Spotlight Series event will be held on April 29\, 2020 at 12:30 pm PST and will feature Todd Gallinger\, managing partner of Gallinger Law.  For over 12 years\, Attorney Todd Gallinger has been working with the Muslims in America on Estate Planning and other transactional issues incorporating Islamic Legal tradition. In addition to receiving a J.D. from George Washington University\, Mr. Gallinger earned a M.A. in Islamic Thought and Leadership from Bayan Claremont. During this presentation Mr. Gallinger will share the basics of Islamic Inheritance as well as issues which commonly arise for clients attempting to incorporate Islamic tradition into their end of life plans. \nTo attend the event\, click here: http://bit.ly/3bmNSTd
URL:https://mbasc.org/event/practice-spotlight-series-muslims-in-america-estate-planning/
CATEGORIES:Professional
ATTACH;FMTTYPE=image/png:https://mbasc.org/wp-content/uploads/2020/04/Screen-Shot-2020-04-19-at-4.44.50-PM.png
END:VEVENT
BEGIN:VEVENT
DTSTART;VALUE=DATE:20200424
DTEND;VALUE=DATE:20200525
DTSTAMP:20260423T074016
CREATED:20200412T003222Z
LAST-MODIFIED:20200412T003239Z
UID:4387-1587686400-1590364799@mbasc.org
SUMMARY:Ramadan 2020
DESCRIPTION:Ramadan Mubarak!\nWe hope you have a blessed and healthy Ramadan\, Inshallah. \n\nWe Have Created Special Guide For Working Muslims:\nA Legal Employer’s Guide To Islam In The Workplace\n\n\nIslam is one of the fastest growing religions in the United States\, and Muslims are vital members of the American workforce. As U.S. legal employers hire more Muslim employees\, and as the legal profession increases its commitment to diversity\, this document aims to give legal employers access to additional information about how Muslims’ religious practices and obligations may relate to the workplace. \nGiven the limited guidance available to legal employers on this issue\, the Muslim Bar Association of Southern California (“MBASC”) is providing the following introduction to the religious practices and expression of Muslims. MBASC hopes this document will serve as a reference tool for law firms\, legal departments\, and other legal employers when responding to the needs of Muslim employees. \nVIEW THE GUIDE\n 
URL:https://mbasc.org/event/ramadan-2020/
CATEGORIES:Social
ATTACH;FMTTYPE=image/jpeg:https://mbasc.org/wp-content/uploads/2020/04/masjid-pogung-dalangan-t5wNqFyCkTI-unsplash-1.jpg
END:VEVENT
BEGIN:VEVENT
DTSTART;TZID=America/Los_Angeles:20200408T193000
DTEND;TZID=America/Los_Angeles:20200408T203000
DTSTAMP:20260423T074016
CREATED:20200409T011529Z
LAST-MODIFIED:20200409T012441Z
UID:4358-1586374200-1586377800@mbasc.org
SUMMARY:Business Stimulus Package SBA Programs Explained
DESCRIPTION:Are you a small business owner or 1099 Contractor and have questions about the new Stimulus Package that was just made available to you? \nJoin us on Wednesday\, April 8th at 7:30pm for this special event covering not only the programs available to you but also how to apply and what the process entails. \nWe will have Hani Amra from Cornerstone Law Services and Farhan Durrani and Fawad Ismail from Wallis State Bank explain the programs and the process to apply and receive the funds. Register for this event HERE.\n\n\n\n\n\n\n\n\n\n\n\n\n\n\n\n\n\n\n\n\n\n\n\n\n\n\n\n\n\n\nOur panel of experts will discuss:\n\nExplaining the CARES ACT for small business owners\, solopreneurs\, and 1009’s\nExplaining the Paycheck Protection Program\nExplaining the Economic Injury Disaster Program\nThe process in applying for the programs and how to get approved\n\nThis event has been designed specifically for small to medium sized businesses.  Register HERE.\n\n\n\n\n\n\n\n\n\n\n\n\n\n\n\n\n\n\n\n 
URL:https://mbasc.org/event/business-stimulus-package-sba-programs-explained/
CATEGORIES:Professional
END:VEVENT
BEGIN:VEVENT
DTSTART;TZID=America/Los_Angeles:20200307T100000
DTEND;TZID=America/Los_Angeles:20200307T120000
DTSTAMP:20260423T074016
CREATED:20200228T003222Z
LAST-MODIFIED:20200228T013343Z
UID:4173-1583575200-1583582400@mbasc.org
SUMMARY:Trial Attorney Workshop
DESCRIPTION:Upcoming Trial Attorney Workshop! \nAre you interested in learning more about the preparation and work involved with conducting jury trials? \nPlease join us on Saturday\, March 7\, 2020\, from 10 am to 12 pm for a panel of MBASC members specialized in jury trials and administrative hearings. Hear from MBASC members Maria Beg\, Elia Naqvi\, Mohammad Qazi\, and Tarek Shawky! \nFREE ADMISSION
URL:https://mbasc.org/event/trial-attorney-workshop/
LOCATION:Islamic Center of Yorba Linda\, 4382 Eureka Ave\, Yorba Linda\, CA\, 92886\, United States
CATEGORIES:Professional
ATTACH;FMTTYPE=image/jpeg:https://mbasc.org/wp-content/uploads/2020/02/unnamed.jpg
END:VEVENT
BEGIN:VEVENT
DTSTART;TZID=America/Los_Angeles:20200303T000000
DTEND;TZID=America/Los_Angeles:20200303T000000
DTSTAMP:20260423T074016
CREATED:20200304T022314Z
LAST-MODIFIED:20200304T022429Z
UID:4258-1583193600-1583193600@mbasc.org
SUMMARY:Test Event For Ticket Sales
DESCRIPTION:This is a test event. \nDon’t buy tickets to this event! \nBuy tickets: \nhttps://www.mbasc.org/product/test-event-ticket/
URL:https://mbasc.org/event/test-event-for-ticket-sales/
END:VEVENT
BEGIN:VEVENT
DTSTART;TZID=America/Los_Angeles:20200220T170000
DTEND;TZID=America/Los_Angeles:20200220T190000
DTSTAMP:20260423T074016
CREATED:20200218T102047Z
LAST-MODIFIED:20200218T231757Z
UID:4135-1582218000-1582225200@mbasc.org
SUMMARY:The Ultimate MBASC Happy  Hour
DESCRIPTION:
URL:https://mbasc.org/event/the-ultimate-mbasc-happy-hour/
LOCATION:Justice Urban Tavern\, 120 S Los Angeles Street\, Los Angeles\, CA\, 90012
CATEGORIES:Social
ATTACH;FMTTYPE=image/jpeg:https://mbasc.org/wp-content/uploads/2020/02/events-justiceurbantavern.jpg
END:VEVENT
END:VCALENDAR